BEGIN:VCALENDAR
VERSION:2.0
PRODID:spatie/icalendar-generator
DESCRIPTION:Veranstaltungen von Gesellschaft für Weinkultur e.V.
X-WR-CALDESC:Veranstaltungen von Gesellschaft für Weinkultur e.V.
REFRESH-INTERVAL;VALUE=DURATION:PT1440M
X-PUBLISHED-TTL:PT1440M
BEGIN:VTIMEZONE
TZID:Europe/Berlin
BEGIN:DAYLIGHT
DTSTART:20260329T020000Z
TZOFFSETFROM:+0100
TZOFFSETTO:+0200
END:DAYLIGHT
BEGIN:STANDARD
DTSTART:20261025T030000Z
TZOFFSETFROM:+0200
TZOFFSETTO:+0100
END:STANDARD
END:VTIMEZONE
BEGIN:VTIMEZONE
TZID:UTC
BEGIN:STANDARD
DTSTART:20250727T170250Z
TZOFFSETFROM:+0000
TZOFFSETTO:+0000
END:STANDARD
END:VTIMEZONE
BEGIN:VEVENT
UID:164-124
DTSTAMP:20260423T170250Z
SUMMARY:Rheinschifffahrt mit Weinprobe Loire\, inkl. Disco-Schiff (90er Jah
 re)
LOCATION:Rüdesheim\, Steiger Rössler Linie
ORGANIZER;CN=Klaus Rössler:MAILTO:kr@roesslerpr.de
DTSTART;TZID=Europe/Berlin;VALUE=DATE:20260815
DTEND;TZID=Europe/Berlin;VALUE=DATE:20260816
X-ALT-DESC;FMTTYPE=TEXT/HTML:
CATEGORIES:Jahresmitgliederversammlung
URL;VALUE=URI:https://collegium-vini.de/veranstaltungen/?mc_id=164&#038;vca
 l=164
METHOD:PUBLISH
END:VEVENT
END:VCALENDAR